BEGIN:VCALENDAR
VERSION:2.0
PRODID:-//Shepherd of the Valley Lutheran Church - ECPv6.15.20//NONSGML v1.0//EN
CALSCALE:GREGORIAN
METHOD:PUBLISH
X-WR-CALNAME:Shepherd of the Valley Lutheran Church
X-ORIGINAL-URL:https://svlcsimi.org
X-WR-CALDESC:Events for Shepherd of the Valley Lutheran Church
REFRESH-INTERVAL;VALUE=DURATION:PT1H
X-Robots-Tag:noindex
X-PUBLISHED-TTL:PT1H
BEGIN:VTIMEZONE
TZID:UTC
BEGIN:STANDARD
TZOFFSETFROM:+0000
TZOFFSETTO:+0000
TZNAME:UTC
DTSTART:20270101T000000
END:STANDARD
END:VTIMEZONE
BEGIN:VEVENT
DTSTART;TZID=UTC:20280106T140000
DTEND;TZID=UTC:20280106T180000
DTSTAMP:20260424T090813
CREATED:20250327T175249Z
LAST-MODIFIED:20250327T175249Z
UID:10001437-1830780000-1830794400@svlcsimi.org
SUMMARY:Still Waters Food Pantry
DESCRIPTION:Still Waters is a full-service USDA certified food pantry set-up like a grocery store\,                                                                                                                      offering canned goods\, breads\, fresh produce\, dairy\, meat\, vegetarian options\, and desserts. Every Thursday from 2pm-6pm.
URL:https://svlcsimi.org/event/still-waters-food-pantry-2/2028-01-06/
LOCATION:Eichele Hall\, 4191 Cochran Street\, Simi Valley\, CA\, 93063\, United States
CATEGORIES:Weekly
END:VEVENT
BEGIN:VEVENT
DTSTART;TZID=UTC:20280113T140000
DTEND;TZID=UTC:20280113T180000
DTSTAMP:20260424T090813
CREATED:20250327T175249Z
LAST-MODIFIED:20250327T175249Z
UID:10001438-1831384800-1831399200@svlcsimi.org
SUMMARY:Still Waters Food Pantry
DESCRIPTION:Still Waters is a full-service USDA certified food pantry set-up like a grocery store\,                                                                                                                      offering canned goods\, breads\, fresh produce\, dairy\, meat\, vegetarian options\, and desserts. Every Thursday from 2pm-6pm.
URL:https://svlcsimi.org/event/still-waters-food-pantry-2/2028-01-13/
LOCATION:Eichele Hall\, 4191 Cochran Street\, Simi Valley\, CA\, 93063\, United States
CATEGORIES:Weekly
END:VEVENT
BEGIN:VEVENT
DTSTART;TZID=UTC:20280120T140000
DTEND;TZID=UTC:20280120T180000
DTSTAMP:20260424T090813
CREATED:20250327T175249Z
LAST-MODIFIED:20250327T175249Z
UID:10001439-1831989600-1832004000@svlcsimi.org
SUMMARY:Still Waters Food Pantry
DESCRIPTION:Still Waters is a full-service USDA certified food pantry set-up like a grocery store\,                                                                                                                      offering canned goods\, breads\, fresh produce\, dairy\, meat\, vegetarian options\, and desserts. Every Thursday from 2pm-6pm.
URL:https://svlcsimi.org/event/still-waters-food-pantry-2/2028-01-20/
LOCATION:Eichele Hall\, 4191 Cochran Street\, Simi Valley\, CA\, 93063\, United States
CATEGORIES:Weekly
END:VEVENT
BEGIN:VEVENT
DTSTART;TZID=UTC:20280127T140000
DTEND;TZID=UTC:20280127T180000
DTSTAMP:20260424T090813
CREATED:20250327T175249Z
LAST-MODIFIED:20250327T175249Z
UID:10001440-1832594400-1832608800@svlcsimi.org
SUMMARY:Still Waters Food Pantry
DESCRIPTION:Still Waters is a full-service USDA certified food pantry set-up like a grocery store\,                                                                                                                      offering canned goods\, breads\, fresh produce\, dairy\, meat\, vegetarian options\, and desserts. Every Thursday from 2pm-6pm.
URL:https://svlcsimi.org/event/still-waters-food-pantry-2/2028-01-27/
LOCATION:Eichele Hall\, 4191 Cochran Street\, Simi Valley\, CA\, 93063\, United States
CATEGORIES:Weekly
END:VEVENT
END:VCALENDAR