BEGIN:VCALENDAR
VERSION:2.0
PRODID:-//Shepherd of the Valley Lutheran Church - ECPv6.15.20//NONSGML v1.0//EN
CALSCALE:GREGORIAN
METHOD:PUBLISH
X-ORIGINAL-URL:https://svlcsimi.org
X-WR-CALDESC:Events for Shepherd of the Valley Lutheran Church
REFRESH-INTERVAL;VALUE=DURATION:PT1H
X-Robots-Tag:noindex
X-PUBLISHED-TTL:PT1H
BEGIN:VTIMEZONE
TZID:UTC
BEGIN:STANDARD
TZOFFSETFROM:+0000
TZOFFSETTO:+0000
TZNAME:UTC
DTSTART:20260101T000000
END:STANDARD
END:VTIMEZONE
BEGIN:VEVENT
DTSTART;TZID=UTC:20270603T140000
DTEND;TZID=UTC:20270603T180000
DTSTAMP:20260423T175345
CREATED:20250327T175249Z
LAST-MODIFIED:20250327T175249Z
UID:10001406-1812031200-1812045600@svlcsimi.org
SUMMARY:Still Waters Food Pantry
DESCRIPTION:Still Waters is a full-service USDA certified food pantry set-up like a grocery store\,                                                                                                                      offering canned goods\, breads\, fresh produce\, dairy\, meat\, vegetarian options\, and desserts. Every Thursday from 2pm-6pm.
URL:https://svlcsimi.org/event/still-waters-food-pantry-2/2027-06-03/
LOCATION:Eichele Hall\, 4191 Cochran Street\, Simi Valley\, CA\, 93063\, United States
CATEGORIES:Weekly
END:VEVENT
BEGIN:VEVENT
DTSTART;TZID=UTC:20270610T140000
DTEND;TZID=UTC:20270610T180000
DTSTAMP:20260423T175345
CREATED:20250327T175249Z
LAST-MODIFIED:20250327T175249Z
UID:10001407-1812636000-1812650400@svlcsimi.org
SUMMARY:Still Waters Food Pantry
DESCRIPTION:Still Waters is a full-service USDA certified food pantry set-up like a grocery store\,                                                                                                                      offering canned goods\, breads\, fresh produce\, dairy\, meat\, vegetarian options\, and desserts. Every Thursday from 2pm-6pm.
URL:https://svlcsimi.org/event/still-waters-food-pantry-2/2027-06-10/
LOCATION:Eichele Hall\, 4191 Cochran Street\, Simi Valley\, CA\, 93063\, United States
CATEGORIES:Weekly
END:VEVENT
BEGIN:VEVENT
DTSTART;TZID=UTC:20270617T140000
DTEND;TZID=UTC:20270617T180000
DTSTAMP:20260423T175345
CREATED:20250327T175249Z
LAST-MODIFIED:20250327T175249Z
UID:10001408-1813240800-1813255200@svlcsimi.org
SUMMARY:Still Waters Food Pantry
DESCRIPTION:Still Waters is a full-service USDA certified food pantry set-up like a grocery store\,                                                                                                                      offering canned goods\, breads\, fresh produce\, dairy\, meat\, vegetarian options\, and desserts. Every Thursday from 2pm-6pm.
URL:https://svlcsimi.org/event/still-waters-food-pantry-2/2027-06-17/
LOCATION:Eichele Hall\, 4191 Cochran Street\, Simi Valley\, CA\, 93063\, United States
CATEGORIES:Weekly
END:VEVENT
BEGIN:VEVENT
DTSTART;TZID=UTC:20270624T140000
DTEND;TZID=UTC:20270624T180000
DTSTAMP:20260423T175345
CREATED:20250327T175249Z
LAST-MODIFIED:20250327T175249Z
UID:10001409-1813845600-1813860000@svlcsimi.org
SUMMARY:Still Waters Food Pantry
DESCRIPTION:Still Waters is a full-service USDA certified food pantry set-up like a grocery store\,                                                                                                                      offering canned goods\, breads\, fresh produce\, dairy\, meat\, vegetarian options\, and desserts. Every Thursday from 2pm-6pm.
URL:https://svlcsimi.org/event/still-waters-food-pantry-2/2027-06-24/
LOCATION:Eichele Hall\, 4191 Cochran Street\, Simi Valley\, CA\, 93063\, United States
CATEGORIES:Weekly
END:VEVENT
END:VCALENDAR