BEGIN:VCALENDAR
VERSION:2.0
PRODID:-//Shepherd of the Valley Lutheran Church - ECPv6.15.20//NONSGML v1.0//EN
CALSCALE:GREGORIAN
METHOD:PUBLISH
X-WR-CALNAME:Shepherd of the Valley Lutheran Church
X-ORIGINAL-URL:https://svlcsimi.org
X-WR-CALDESC:Events for Shepherd of the Valley Lutheran Church
REFRESH-INTERVAL;VALUE=DURATION:PT1H
X-Robots-Tag:noindex
X-PUBLISHED-TTL:PT1H
BEGIN:VTIMEZONE
TZID:UTC
BEGIN:STANDARD
TZOFFSETFROM:+0000
TZOFFSETTO:+0000
TZNAME:UTC
DTSTART:20250101T000000
END:STANDARD
END:VTIMEZONE
BEGIN:VEVENT
DTSTART;TZID=UTC:20260426T110000
DTEND;TZID=UTC:20260426T120000
DTSTAMP:20260426T012047
CREATED:20260109T211039Z
LAST-MODIFIED:20260303T230836Z
UID:10002166-1777201200-1777204800@svlcsimi.org
SUMMARY:Waffle Sunday
DESCRIPTION:
URL:https://svlcsimi.org/event/waffle-sunday-2/
LOCATION:Church Patio\, 4191 Cochran St\, Simi Valley\, CA\, 93063\, United States
END:VEVENT
END:VCALENDAR